BEGIN:VCALENDAR
VERSION:2.0
PRODID:-//Tanya Lewis Eco-organiser - ECPv4.9.13//NONSGML v1.0//EN
CALSCALE:GREGORIAN
METHOD:PUBLISH
X-WR-CALNAME:Tanya Lewis Eco-organiser
X-ORIGINAL-URL:https://www.ecoorganiser.com.au
X-WR-CALDESC:Events for Tanya Lewis Eco-organiser
BEGIN:VTIMEZONE
TZID:Australia/Melbourne
BEGIN:STANDARD
TZOFFSETFROM:+1100
TZOFFSETTO:+1000
TZNAME:AEST
DTSTART:20200404T160000
END:STANDARD
BEGIN:DAYLIGHT
TZOFFSETFROM:+1000
TZOFFSETTO:+1100
TZNAME:AEDT
DTSTART:20201003T160000
END:DAYLIGHT
END:VTIMEZONE
BEGIN:VEVENT
DTSTART;TZID=Australia/Melbourne:20200326T183000
DTEND;TZID=Australia/Melbourne:20200326T203000
DTSTAMP:20200229T155521
CREATED:20200124T002126Z
LAST-MODIFIED:20200131T021858Z
UID:5468-1585247400-1585254600@www.ecoorganiser.com.au
SUMMARY:Watsonia- Reduce Waste
DESCRIPTION:Watsonia do you want to reduce waste and live a more sustainable life? \nWant to live well with less waste and reduce your carbon footprint? \nJoin Tanya Lewis The Eco Organiser®\, Australia’s leading sustainable lifestyle coach. \n\nLearn how to get organised for a sustainable lifestyle and save time\, money and do good for the planet.\nLearn how to reduce waste and work towards zero waste\nTips to resist the urge to buy more stuff\nLearn how to ethically declutter\nLearn where responsibly recycle and dispose of unwanted items\nQ&A- how to responsibly dispose of unwanted items.\n\nPresenter \nTanya Lewis created Eco Organiser® after realising her passion was helping people reduce waste\, organise their TIME and SPACE- and to do it in an environmentally responsible way. \nAuthor of STUFF OFF! and founder of The10R’s ©\, Tanya specialises in thinking outside the square\, inspiring new ideas and introducing easy- to- maintain systems that will give you more time for the really important things in your life. \nTanya is on a mission to teach communities that being organised won’t cost the earth. Over the past few years over 8000+ people from the bush to London\,  Scotland the Sydney Opera House have attended her interactive workshops and seminars\, demonstrating how easy it is to save time\, money and help protect the planet. \nSince starting her business Eco Organiser®\, Tanya and the Eco Organiser® community has helped divert an estimated 40 000 kg of stuff from landfill\, simply by finding good homes for unwanted stuff. \n2019 The Melbourne University \n2019 Strathclyde University Glasgow \n2018 Ambassador Planet Ark \n2018 Sydney Opera House Antidote Festival of Ideas \n2018 Spokesperson for Mobile Muster  & Oz Harvest Mobile For A Meal campaign   \n2017 National Ambassador Garage Sale Trail \n2015 & 2016\, 2018 Ambassador Garage Sale Trail \n2012 Greenpeace thank you letter \nFollow on FB Twitter Instagram Linkedin Blog \nBOOKING DETAILS TBA \n“We don’t have time to waste” Tanya  \n
URL:https://www.ecoorganiser.com.au/event/waste/
LOCATION:Watsonia Neighbourhood House\, 35/47 Lambourn Street\, Watsonia\, Victoira\, 3079\, Australia
END:VEVENT
BEGIN:VEVENT
DTSTART;TZID=Australia/Melbourne:20200401T183000
DTEND;TZID=Australia/Melbourne:20200401T203000
DTSTAMP:20200229T155521
CREATED:20191128T004528Z
LAST-MODIFIED:20200124T001537Z
UID:4365-1585765800-1585773000@www.ecoorganiser.com.au
SUMMARY:Ringwood
DESCRIPTION:Ringwood are you drowning in clutter and stuff\, is it time to declutter and simplify life? \n\nHow much time do you waste looking for the keys\, phone\, purse just to get out the door on time?\nDoes the car live on the street because there is no room in the garage\, simply because there is too much STUFF\nDo you struggle to pay bills on time\, because you are drowning in a sea of paper?\nDo you struggle to find a little ME time or are you always busy doing STUFF?\n\nImagine a life without the clutter \n\nThere is less housework\nThings have a “home” making it easy to find when you want them\nYour bills are paid on time saving you money because you have a system of dealing with them\nFinally there is more time to do the things you want.\n\nWhat would you do with more time in your day? \nBooking details TBA  \nJoin our free fun\, interactive workshop and learn \n\nHow to identify your clutter\nHow easy it is to declutter\nHow to eco organise\nHow to refuse clutter\nHow to identify treasures\nHow to let go of clutter\nHow to sort\, organise every room in your house\, without costing the earth\nHow to reduce clutter and divert waste from landfill\nHow to maintain a clutter free space so you can live the life you want\nYou will leave with a better understanding of what your clutter is\, and how to responsibly dispose of unwanted stuff\nCome along and discover how easy it is to reduce\, reuse\, recycle and reward yourself with a simpler life\n\nPresenter \nTanya Lewis Professional Eco Organiser®\, Waste Coach\, Author of STUFF OFF! Blogger\, Interior Designer and visionary believes that being organised won’t cost the earth \nJoin us for this fun workshop to help your declutter and simplify life without costing the Earth.\nTo pre order your signed copy of STUFF OFF! Email tanya@ecoorganiser.com.au \nBecause life really is too short to be looking for STUFF! \n
URL:https://www.ecoorganiser.com.au/event/ringwood/
LOCATION:Victoira
ATTACH;FMTTYPE=image/png:https://www.ecoorganiser.com.au/wp-content/uploads/2019/02/Copy-of-Clutter-freeOrganisedEco-friendly-living.png
END:VEVENT
BEGIN:VEVENT
DTSTART;TZID=Australia/Melbourne:20200402T183000
DTEND;TZID=Australia/Melbourne:20200402T203000
DTSTAMP:20200229T155521
CREATED:20191007T022844Z
LAST-MODIFIED:20191007T022844Z
UID:4201-1585852200-1585859400@www.ecoorganiser.com.au
SUMMARY:Melbourne- Preston
DESCRIPTION:Coming your way in 2020 \n
URL:https://www.ecoorganiser.com.au/event/melbourne-preston/
LOCATION:Victoira
ATTACH;FMTTYPE=image/png:https://www.ecoorganiser.com.au/wp-content/uploads/2019/02/How-to-ethically-declutter-2019-Eco-Organiser.png
END:VEVENT
BEGIN:VEVENT
DTSTART;TZID=Australia/Melbourne:20200812T183000
DTEND;TZID=Australia/Melbourne:20200812T203000
DTSTAMP:20200229T155521
CREATED:20200211T021026Z
LAST-MODIFIED:20200212T022758Z
UID:5930-1597257000-1597264200@www.ecoorganiser.com.au
SUMMARY:Central West NSW -Speaking Tour TBA
DESCRIPTION:We have things to sort through\, but we’re super excited to be touring rural NSW in 2020. \n
URL:https://www.ecoorganiser.com.au/event/nsw/
LOCATION:Victoira
ATTACH;FMTTYPE=image/png:https://www.ecoorganiser.com.au/wp-content/uploads/2020/01/Copy-of-Copy-of-The-10Rs.png
END:VEVENT
BEGIN:VEVENT
DTSTART;TZID=Australia/Melbourne:20200813T183000
DTEND;TZID=Australia/Melbourne:20200813T203000
DTSTAMP:20200229T155521
CREATED:20200211T021350Z
LAST-MODIFIED:20200212T022708Z
UID:5934-1597343400-1597350600@www.ecoorganiser.com.au
SUMMARY:Central West NSW- Speaking Tour TBA
DESCRIPTION:We have things to sort through\, but we’re super excited to be touring rural NSW in 2020. \n
URL:https://www.ecoorganiser.com.au/event/nsw-rural-tba/
LOCATION:Victoira
ATTACH;FMTTYPE=image/png:https://www.ecoorganiser.com.au/wp-content/uploads/2020/01/Copy-of-Copy-of-The-10Rs.png
END:VEVENT
BEGIN:VEVENT
DTSTART;TZID=Australia/Melbourne:20200814T100000
DTEND;TZID=Australia/Melbourne:20200814T120000
DTSTAMP:20200229T155521
CREATED:20200211T021649Z
LAST-MODIFIED:20200212T022552Z
UID:5936-1597399200-1597406400@www.ecoorganiser.com.au
SUMMARY:Central West NSW- Speaking Tour TBA
DESCRIPTION:We have things to sort through\, but we’re super excited to be touring Central West NSW in 2020. \n
URL:https://www.ecoorganiser.com.au/event/nsw-rural-tba-2/
LOCATION:Victoira
ATTACH;FMTTYPE=image/png:https://www.ecoorganiser.com.au/wp-content/uploads/2020/01/Copy-of-Copy-of-The-10Rs.png
END:VEVENT
BEGIN:VEVENT
DTSTART;TZID=Australia/Melbourne:20200815T123000
DTEND;TZID=Australia/Melbourne:20200815T133000
DTSTAMP:20200229T155521
CREATED:20200211T022217Z
LAST-MODIFIED:20200212T022625Z
UID:5939-1597494600-1597498200@www.ecoorganiser.com.au
SUMMARY:Central West NSW-Speaking Tour TBA
DESCRIPTION:We have things to sort through\, but we’re super excited to be touring Central West NSW in 2020. \n
URL:https://www.ecoorganiser.com.au/event/nsw-rural-tourtba/
LOCATION:Victoira
ATTACH;FMTTYPE=image/png:https://www.ecoorganiser.com.au/wp-content/uploads/2020/01/Copy-of-Copy-of-The-10Rs.png
END:VEVENT
BEGIN:VEVENT
DTSTART;TZID=Australia/Melbourne:20200903T183000
DTEND;TZID=Australia/Melbourne:20200903T203000
DTSTAMP:20200229T155521
CREATED:20200130T033119Z
LAST-MODIFIED:20200130T033119Z
UID:5622-1599157800-1599165000@www.ecoorganiser.com.au
SUMMARY:Mosman
DESCRIPTION:Mosman are you drowning in  stuff\, want to ethically declutter and reduce waste? \n\nHow much time do you waste looking for the keys\, phone\, purse just to get out the door on time?\nDoes the car live on the street because there is no room in the garage\, simply because there is too much STUFF?\nAre you worried about the plastic in your life?\n\nImagine a life without the clutter and waste \n\nThings have a “home” making it easy to find when you want them\nLess waste in your home.\nFinally there is more time to do the things you want.\n\nWhat would you do with more time in your day? \nBookings open July \nJoin our free fun\, interactive workshop and learn \n\nHow to identify your clutter\nHow to ethically declutter\nHow to find good homes for unwanted possessions\nHow to sort\, organise every room in your house\, without costing the earth\nHow to maintain a clutter free space so you can live the life you want\nHow to reduce\, reuse and responsibly dispose of unwanted items\n\nYou will leave with a better understanding of what your clutter is\, and how to responsibly dispose of unwanted stuff to live well with less waste. \nPresenter \nTanya Lewis Professional Eco Organiser®\, Waste Coach\, Author of STUFF OFF! Planet Ark Ambassador\, Blogger and visionary believes that being organised won’t cost the earth. \nTanya is on a mission to teach communities that being organised won’t cost the earth. Over the past few years over 8000+ people from the bush to London\, Scotland the Sydney Opera House have attended her interactive workshops and seminars\, demonstrating how easy it is to save time\, money and help protect the planet. \nSince starting her business Eco Organiser®\, Tanya and the Eco Organiser® community has helped divert an estimated 40 000 kg of stuff from landfill\, simply by finding good homes for unwanted stuff. \n2019 The Melbourne University \n2019 Strathclyde University Glasgow \n2018 Ambassador Planet Ark \n2018 Sydney Opera House Antidote Festival of Ideas \n2018 Spokesperson for Mobile Muster  & Oz Harvest Mobile For A Meal campaign   \n2017 National Ambassador Garage Sale Trail \n2015 & 2016\, 2018 Ambassador Garage Sale Trail \n2012 Greenpeace thank you letter \nTo order your copy of STUFF OFF! also available in e book  \nPlease note: Venue and times will be confirmed in July. \nFollow us on Facebook Instagram Twitter Linkedin \n
URL:https://www.ecoorganiser.com.au/event/mosman/
LOCATION:Victoira
ATTACH;FMTTYPE=image/png:https://www.ecoorganiser.com.au/wp-content/uploads/2020/01/Copy-of-Copy-of-The-10Rs.png
END:VEVENT
END:VCALENDAR